BEGIN:VCALENDAR
VERSION:2.0
PRODID:-//99.3 The River - ECPv4.6.26//NONSGML v1.0//EN
CALSCALE:GREGORIAN
METHOD:PUBLISH
X-WR-CALNAME:99.3 The River
X-ORIGINAL-URL:https://993theriver.com
X-WR-CALDESC:Events for 99.3 The River
BEGIN:VEVENT
DTSTART;TZID=America/Halifax:20210516T160000
DTEND;TZID=America/Halifax:20210516T180000
DTSTAMP:20260420T024937
CREATED:20210516T134615Z
LAST-MODIFIED:20210516T134638Z
UID:14567-1621180800-1621188000@993theriver.com
SUMMARY:Lobster and Ham Take Out supper (May 29th)
DESCRIPTION:St John the Evangelist – Lobster & Ham Take Out supper –\nBlack River Centennial Hall -n\nSat May 29th from 4-6PM\nMust be reserved ahead by calling before Sun May 23rd\nPlease call 228-4661 or 228-4868\nPrices are $25 for Lobster\n$15 for Ham\nChildren Portion 1/2 price \n
URL:https://993theriver.com/event/lobster-ham-take-out-supper-may-29th/2021-05-16/
END:VEVENT
END:VCALENDAR