BEGIN:VCALENDAR
VERSION:2.0
PRODID:-//99.3 The River - ECPv4.6.26//NONSGML v1.0//EN
CALSCALE:GREGORIAN
METHOD:PUBLISH
X-WR-CALNAME:99.3 The River
X-ORIGINAL-URL:https://993theriver.com
X-WR-CALDESC:Events for 99.3 The River
BEGIN:VEVENT
DTSTART;TZID=America/Halifax:20171216T180000
DTEND;TZID=America/Halifax:20171216T180000
DTSTAMP:20260422T143535
CREATED:20171202T135604Z
LAST-MODIFIED:20171202T135604Z
UID:5321-1513447200-1513447200@993theriver.com
SUMMARY:Live Nativity
DESCRIPTION:Saturday\, December 16th at 6 PM \nSt. Stephen’s United Church\, Black River \nFollowed by hot chocolate and donuts in the church basement \n
URL:https://993theriver.com/event/live-nativity/
END:VEVENT
END:VCALENDAR