BEGIN:VCALENDAR
VERSION:2.0
PRODID:-//99.3 The River - ECPv4.6.26//NONSGML v1.0//EN
CALSCALE:GREGORIAN
METHOD:PUBLISH
X-WR-CALNAME:99.3 The River
X-ORIGINAL-URL:https://993theriver.com
X-WR-CALDESC:Events for 99.3 The River
BEGIN:VEVENT
DTSTART;TZID=America/Halifax:20230728T183000
DTEND;TZID=America/Halifax:20230728T183000
DTSTAMP:20260421T144705
CREATED:20230723T122913Z
LAST-MODIFIED:20230723T122913Z
UID:19557-1690569000-1690569000@993theriver.com
SUMMARY:Lions Club Bingo
DESCRIPTION:Newcastle Lions Club. \nEvery Thursday evening. \nDoors open at 5:00 and early bird games start at 6:30. \nPrizes for regular games are $130.00\, and $150.00 for the specials \n
URL:https://993theriver.com/event/lions-club-bingo/2023-07-28/
CATEGORIES:Bingo
END:VEVENT
END:VCALENDAR