BEGIN:VCALENDAR
VERSION:2.0
PRODID:-//99.3 The River - ECPv4.6.26//NONSGML v1.0//EN
CALSCALE:GREGORIAN
METHOD:PUBLISH
X-WR-CALNAME:99.3 The River
X-ORIGINAL-URL:https://993theriver.com
X-WR-CALDESC:Events for 99.3 The River
BEGIN:VEVENT
DTSTART;TZID=UTC+1:20171123T180000
DTEND;TZID=UTC+1:20171123T180000
DTSTAMP:20260422T161513
CREATED:20171120T065138Z
LAST-MODIFIED:20171120T065625Z
UID:5246-1511460000-1511460000@993theriver.com
SUMMARY:Lighting of the Park
DESCRIPTION:Events: 6pm Grand re-opening of Queen Elizabeth Park. Ribbon cutting ceremony with Government and City dignitaries\, Minister Bill Fraser with Mayor and Council followed by: Santa Claus at Vogue Optical; Carollers\, Horse drawn wagon rides; Loonie ($1) stations include cup cake\, cookie decorating\, hot chocolate\, pizza slices\, face painting and balloon animals. All proceeds will go to the food bank. \nCheck out our downtown merchants pre Christmas sale specials. \nBrought to you by the Newcastle Business District Merchants. \n
URL:https://993theriver.com/event/lighting-of-the-park/
END:VEVENT
END:VCALENDAR