BEGIN:VCALENDAR
VERSION:2.0
PRODID:-//99.3 The River - ECPv4.6.26//NONSGML v1.0//EN
CALSCALE:GREGORIAN
METHOD:PUBLISH
X-WR-CALNAME:99.3 The River
X-ORIGINAL-URL:https://993theriver.com
X-WR-CALDESC:Events for 99.3 The River
BEGIN:VEVENT
DTSTART;TZID=America/Halifax:20240830T190000
DTEND;TZID=America/Halifax:20240830T220000
DTSTAMP:20260424T123631
CREATED:20240624T115110Z
LAST-MODIFIED:20240624T115110Z
UID:22650-1725044400-1725055200@993theriver.com
SUMMARY:Legion 3 Live Music
DESCRIPTION:Legion 3 Chatham will be having LIVE music Aug 30th from 7:00pm to 10:00pm.\nAdmission will be $5.\nMusic will be performed by “George Allan Music” consisting of Classic Country Music with a little bit of Old Rock and Roll mixed in. \n
URL:https://993theriver.com/event/legion-3-live-music/
CATEGORIES:Entertainment
END:VEVENT
END:VCALENDAR