BEGIN:VCALENDAR
VERSION:2.0
PRODID:-//99.3 The River - ECPv4.6.26//NONSGML v1.0//EN
CALSCALE:GREGORIAN
METHOD:PUBLISH
X-WR-CALNAME:99.3 The River
X-ORIGINAL-URL:https://993theriver.com
X-WR-CALDESC:Events for 99.3 The River
BEGIN:VEVENT
DTSTART;TZID=America/Halifax:20260609T170000
DTEND;TZID=America/Halifax:20260609T170000
DTSTAMP:20260421T161229
CREATED:20200720T150328Z
LAST-MODIFIED:20200720T150328Z
UID:22546-1781024400-1781024400@993theriver.com
SUMMARY:Legion 3 Bingo
DESCRIPTION:Branch #3 Chatham Legion Bingo \nTuesday and Thursday Evenings. \n
URL:https://993theriver.com/event/legion-3-bingo/2026-06-09/
CATEGORIES:Bingo
END:VEVENT
END:VCALENDAR