BEGIN:VCALENDAR
VERSION:2.0
PRODID:-//99.3 The River - ECPv4.6.26//NONSGML v1.0//EN
CALSCALE:GREGORIAN
METHOD:PUBLISH
X-WR-CALNAME:99.3 The River
X-ORIGINAL-URL:https://993theriver.com
X-WR-CALDESC:Events for 99.3 The River
BEGIN:VEVENT
DTSTART;TZID=UTC+1:20171021T200000
DTEND;TZID=UTC+1:20171021T230000
DTSTAMP:20260421T173107
CREATED:20171020T164735Z
LAST-MODIFIED:20171020T164735Z
UID:4577-1508616000-1508626800@993theriver.com
SUMMARY:Kitchen Party
DESCRIPTION: \n
URL:https://993theriver.com/event/kitchen-party/
END:VEVENT
END:VCALENDAR