BEGIN:VCALENDAR
VERSION:2.0
PRODID:-//99.3 The River - ECPv4.6.26//NONSGML v1.0//EN
CALSCALE:GREGORIAN
METHOD:PUBLISH
X-WR-CALNAME:99.3 The River
X-ORIGINAL-URL:https://993theriver.com
X-WR-CALDESC:Events for 99.3 The River
BEGIN:VEVENT
DTSTART;TZID=America/Halifax:20220813T110000
DTEND;TZID=America/Halifax:20220813T110000
DTSTAMP:20260421T222114
CREATED:20220809T225657Z
LAST-MODIFIED:20220809T225657Z
UID:17719-1660388400-1660388400@993theriver.com
SUMMARY:Josie Foundation BBQ and Yard Sale
DESCRIPTION:Saturday August 13th \nBBQ at 11\, dunking tank with local guests\, live music and a yard sale \nNewcastle Waterfront in front of the Wedding Lark/First General area. \nAll proceeds for the Josie foundation. \n
URL:https://993theriver.com/event/josie-foundation-bbq-and-yard-sale/
CATEGORIES:Fundraiser
END:VEVENT
END:VCALENDAR