BEGIN:VCALENDAR
VERSION:2.0
PRODID:-//99.3 The River - ECPv4.6.26//NONSGML v1.0//EN
CALSCALE:GREGORIAN
METHOD:PUBLISH
X-WR-CALNAME:99.3 The River
X-ORIGINAL-URL:https://993theriver.com
X-WR-CALDESC:Events for 99.3 The River
BEGIN:VEVENT
DTSTART;TZID=America/Halifax:20180922T140000
DTEND;TZID=America/Halifax:20180922T210000
DTSTAMP:20260421T235207
CREATED:20180922T010811Z
LAST-MODIFIED:20180922T010851Z
UID:6510-1537624800-1537650000@993theriver.com
SUMMARY:Joann Lynch and Clair Young CD Release
DESCRIPTION:Saturday\, September 22nd \nSeaman’s Hospital \n2 – 9 PM \n  \n
URL:https://993theriver.com/event/joann-lynch-clair-young-cd-release/
END:VEVENT
END:VCALENDAR