BEGIN:VCALENDAR
VERSION:2.0
PRODID:-//99.3 The River - ECPv4.6.26//NONSGML v1.0//EN
CALSCALE:GREGORIAN
METHOD:PUBLISH
X-WR-CALNAME:99.3 The River
X-ORIGINAL-URL:https://993theriver.com
X-WR-CALDESC:Events for 99.3 The River
BEGIN:VEVENT
DTSTART;VALUE=DATE:20230421
DTEND;VALUE=DATE:20230422
DTSTAMP:20260419T233439
CREATED:20230421T235413Z
LAST-MODIFIED:20230422T005414Z
UID:19139-1682035200-1682121599@993theriver.com
SUMMARY:JMH Leisure Shed Tickets (Draw Date May 19th)
DESCRIPTION:JMH High school are selling tickets on a Beautiful Leisure shed built by the students. Tickets can be purchased at MacCallum Building Supplies or you can contact the school. \nTickets are $20 each and the draw will take place on May 19th \n \n
URL:https://993theriver.com/event/jmh-leisure-shed-tickets-draw-date-may-19th/2023-04-21/
CATEGORIES:Fundraiser
END:VEVENT
END:VCALENDAR