BEGIN:VCALENDAR
VERSION:2.0
PRODID:-//99.3 The River - ECPv4.6.26//NONSGML v1.0//EN
CALSCALE:GREGORIAN
METHOD:PUBLISH
X-WR-CALNAME:99.3 The River
X-ORIGINAL-URL:https://993theriver.com
X-WR-CALDESC:Events for 99.3 The River
BEGIN:VEVENT
DTSTART;TZID=America/Halifax:20220424T130000
DTEND;TZID=America/Halifax:20220424T130000
DTSTAMP:20260422T142955
CREATED:20220423T120829Z
LAST-MODIFIED:20220423T120829Z
UID:17151-1650805200-1650805200@993theriver.com
SUMMARY:James M. Hill Alumni Merchandise Bingo
DESCRIPTION:Sunday\, April 24th at 1pm. \nNordin Rec Centre\, 24 Nordin Lane. \nDoors open at 12:00 noon. \nLots of great prizes including Blue Jays Tickets for the jackpot game. \n
URL:https://993theriver.com/event/james-m-hill-alumni-merchandise-bingo/
CATEGORIES:Fundraiser
END:VEVENT
END:VCALENDAR