BEGIN:VCALENDAR
VERSION:2.0
PRODID:-//99.3 The River - ECPv4.6.26//NONSGML v1.0//EN
CALSCALE:GREGORIAN
METHOD:PUBLISH
X-WR-CALNAME:99.3 The River
X-ORIGINAL-URL:https://993theriver.com
X-WR-CALDESC:Events for 99.3 The River
BEGIN:VEVENT
DTSTART;TZID=America/Halifax:20240604T100000
DTEND;TZID=America/Halifax:20240604T140000
DTSTAMP:20260421T174553
CREATED:20240602T230032Z
LAST-MODIFIED:20240603T013003Z
UID:22528-1717495200-1717509600@993theriver.com
SUMMARY:Jam A Van for the Community Food Bank
DESCRIPTION: \nIt’s John O’Shea. You know that I am part of your weekends here on 99.3 The River. But you may not know that I also teach Business at NBCC Miramichi.\nBoth 99.3 The River and NBCC feel strongly about giving back to the community. \nSo I along with the NBCC Business Administration students want you to help us “Jam a Van for the Community Food Bank”. \nOn Tuesday\, June 4th at Sobeys in Newcastle from 10 AM until 2\, we will be collecting non-perishable food items to Jam the 99.3 The River Van for the Community Food Bank. \nOther students will be located at Sobeys Douglastown\, Newcastle and Chatham Atlantic Superstores and Walmart. \n
URL:https://993theriver.com/event/jam-a-van-for-the-community-food-bank/
LOCATION:Sobeys Newcastle
CATEGORIES:Fundraiser
END:VEVENT
END:VCALENDAR