BEGIN:VCALENDAR
VERSION:2.0
PRODID:-//99.3 The River - ECPv4.6.26//NONSGML v1.0//EN
CALSCALE:GREGORIAN
METHOD:PUBLISH
X-WR-CALNAME:99.3 The River
X-ORIGINAL-URL:https://993theriver.com
X-WR-CALDESC:Events for 99.3 The River
BEGIN:VEVENT
DTSTART;TZID=America/Halifax:20250310T080000
DTEND;TZID=America/Halifax:20250315T170000
DTSTAMP:20260422T171710
CREATED:20250310T092906Z
LAST-MODIFIED:20250310T092906Z
UID:23961-1741593600-1742058000@993theriver.com
SUMMARY:Irish Comedy
DESCRIPTION:Be sure to see the reprise of Tom Daley’s love letter to Irish Comedy on March 15th at the Nelson Rural School at 7pm. The legendary Old Matt Daley has died\, and Pat Power has confirmed it as only he can. Mike McGrath has grudgingly agreed to hold the wake at his house\, and Brigid Regan is busy cooking a meal capable of feeding the whole of Barnaby River\, animals included. A show that left people rolling in the aisles last June returns to the stage just in time for St. Patrick’s Day. Grab a holy card\, and some fudge (fairy brains optional) and join us. Tickets ($25) will be available at the door. Storm date: March 16 Warning: You Might Die Laughing! \n
URL:https://993theriver.com/event/irish-comedy/
END:VEVENT
END:VCALENDAR