BEGIN:VCALENDAR
VERSION:2.0
PRODID:-//99.3 The River - ECPv4.6.26//NONSGML v1.0//EN
CALSCALE:GREGORIAN
METHOD:PUBLISH
X-WR-CALNAME:99.3 The River
X-ORIGINAL-URL:https://993theriver.com
X-WR-CALDESC:Events for 99.3 The River
BEGIN:VEVENT
DTSTART;TZID=UTC+1:20170401T080000
DTEND;TZID=UTC+1:20170401T120000
DTSTAMP:20260420T151900
CREATED:20170329T031125Z
LAST-MODIFIED:20170329T031125Z
UID:2454-1491033600-1491048000@993theriver.com
SUMMARY:Indoor Yard & Vendor Sale for Joshua Lusk
DESCRIPTION: \n
URL:https://993theriver.com/event/indoor-yard-vendor-sale-for-joshua-lusk/
END:VEVENT
END:VCALENDAR