BEGIN:VCALENDAR
VERSION:2.0
PRODID:-//99.3 The River - ECPv4.6.26//NONSGML v1.0//EN
CALSCALE:GREGORIAN
METHOD:PUBLISH
X-WR-CALNAME:99.3 The River
X-ORIGINAL-URL:https://993theriver.com
X-WR-CALDESC:Events for 99.3 The River
BEGIN:VEVENT
DTSTART;TZID=America/Halifax:20230517T080000
DTEND;TZID=America/Halifax:20230603T170000
DTSTAMP:20260419T215829
CREATED:20230517T133920Z
LAST-MODIFIED:20230517T133920Z
UID:19300-1684310400-1685811600@993theriver.com
SUMMARY:IceBreaker Dinner and Auction
DESCRIPTION:The Miramichi Salmon Association is hosting their 26th Annual IceBreaker Dinner and Auction at the Woodmen’s Museum in Boiestown on June 3rd. Tickets are $70 each. To learn more\, visit miramichisalmon.ca/icebreaker or call (506) 622-4000. \n
URL:https://993theriver.com/event/icebreaker-dinner-and-auction/
END:VEVENT
END:VCALENDAR