BEGIN:VCALENDAR
VERSION:2.0
PRODID:-//99.3 The River - ECPv4.6.26//NONSGML v1.0//EN
CALSCALE:GREGORIAN
METHOD:PUBLISH
X-WR-CALNAME:99.3 The River
X-ORIGINAL-URL:https://993theriver.com
X-WR-CALDESC:Events for 99.3 The River
BEGIN:VEVENT
DTSTART;TZID=UTC+0:20171004T000000
DTEND;TZID=UTC+0:20171004T235900
DTSTAMP:20260424T004054
CREATED:20171003T152047Z
LAST-MODIFIED:20171005T181723Z
UID:4377-1507075200-1507161540@993theriver.com
SUMMARY:Hospice Miramichi Online Auction
DESCRIPTION:Hospice Miramichi is having an online auction on their Facebook page\, from October 2nd until noon on Tuesday\, October 10th. \nEach Item will have an opening bid. Any bids below the opening amount will be deemed invalid.\nBids will increase by increments of $1.00\nThe winning bid will be the highest bid time stamped by 12:00 PM on Tuesday October 10th.\nTax receipts will not be issued for auction purchases.\nWinners will have to make arrangements for pick up. \n  \n
URL:https://993theriver.com/event/hospice-miramichi-online-auction-2017-10-04/
END:VEVENT
END:VCALENDAR