BEGIN:VCALENDAR
VERSION:2.0
PRODID:-//99.3 The River - ECPv4.6.26//NONSGML v1.0//EN
CALSCALE:GREGORIAN
METHOD:PUBLISH
X-WR-CALNAME:99.3 The River
X-ORIGINAL-URL:https://993theriver.com
X-WR-CALDESC:Events for 99.3 The River
BEGIN:VEVENT
DTSTART;VALUE=DATE:20180818
DTEND;VALUE=DATE:20180819
DTSTAMP:20260425T132039
CREATED:20180816T142552Z
LAST-MODIFIED:20180816T145911Z
UID:6144-1534550400-1534636799@993theriver.com
SUMMARY:Horse Show
DESCRIPTION:Northumberland County Horse Club \nNapan Agricultural Show Fairgounds \nSaturday morning 9am with western pleasure classes and then poles\, barrels etc in the afternoon. \nSunday classes start at 10am with English Pleasure classes and more poles and barrels in the afternoon. \nFree admisson and a canteen on site. \nCome and enjoy the day \n
URL:https://993theriver.com/event/horse-show/2018-08-18/
END:VEVENT
END:VCALENDAR