BEGIN:VCALENDAR
VERSION:2.0
PRODID:-//99.3 The River - ECPv4.6.26//NONSGML v1.0//EN
CALSCALE:GREGORIAN
METHOD:PUBLISH
X-WR-CALNAME:99.3 The River
X-ORIGINAL-URL:https://993theriver.com
X-WR-CALDESC:Events for 99.3 The River
BEGIN:VEVENT
DTSTART;TZID=America/Halifax:20180903T113000
DTEND;TZID=America/Halifax:20180903T173000
DTSTAMP:20260419T124508
CREATED:20180813T154341Z
LAST-MODIFIED:20180813T154341Z
UID:6117-1535974200-1535995800@993theriver.com
SUMMARY:Harvest Home Supper
DESCRIPTION:Monday\, September 3\, 2018\nSt. Stephen’s United Church\, 7970 Route 117 Black River Bridge NB\nTickets on sale from 11:30 am to 5:00 pm\nMeals served from 12:00 noon to 5:30 pm\nHam or Turkey: Adults: $13.00\, Children (12 & under): $6.00\nSalmon: Adults: $16.00\, Children (12 & under): $6.00\nTake-outs available\nCanteen & Crafts on Grounds \n
URL:https://993theriver.com/event/harvest-home-supper-2/
END:VEVENT
END:VCALENDAR