BEGIN:VCALENDAR
VERSION:2.0
PRODID:-//99.3 The River - ECPv4.6.26//NONSGML v1.0//EN
CALSCALE:GREGORIAN
METHOD:PUBLISH
X-WR-CALNAME:99.3 The River
X-ORIGINAL-URL:https://993theriver.com
X-WR-CALDESC:Events for 99.3 The River
BEGIN:VEVENT
DTSTART;TZID=America/Halifax:20220416T160000
DTEND;TZID=America/Halifax:20220416T180000
DTSTAMP:20260422T142051
CREATED:20220407T234616Z
LAST-MODIFIED:20220407T235041Z
UID:16845-1650124800-1650132000@993theriver.com
SUMMARY:Ham and Scallop Supper
DESCRIPTION:Sunny Corner Legion #90\nHam & Scallop Supper\nSaturday\, April 16\, 2022\n4pm-6pm\n$15.00 per person eat in\n$16.00 per person take out\nTickets at the door while quantities last. \n
URL:https://993theriver.com/event/ham-scallop-supper/
CATEGORIES:Community Events
END:VEVENT
END:VCALENDAR