BEGIN:VCALENDAR
VERSION:2.0
PRODID:-//99.3 The River - ECPv4.6.26//NONSGML v1.0//EN
CALSCALE:GREGORIAN
METHOD:PUBLISH
X-WR-CALNAME:99.3 The River
X-ORIGINAL-URL:https://993theriver.com
X-WR-CALDESC:Events for 99.3 The River
BEGIN:VEVENT
DTSTART;TZID=America/Halifax:20220212T160000
DTEND;TZID=America/Halifax:20220212T170000
DTSTAMP:20260419T160949
CREATED:20220212T133929Z
LAST-MODIFIED:20220212T133929Z
UID:16311-1644681600-1644685200@993theriver.com
SUMMARY:Ham & Potato Scallop Supper (Feb. 16th)
DESCRIPTION:St. Andrew’s United Church\, 188 Wellington Street\, Miramichi\nHam & Potato Scallop Supper with Peas\, Carrots\, homemade tea biscuit\,\nDessert: Chocolate Zucchini Cake or Sticky Toffee Pudding\nWednesday\, February 16th – 4pm-5pm\nTickets $15.00 a person proceeds to\nSt. Andrew’s Community Kitchen\n(TAKE OUT ONLY) (110 tickets being sold)\nCall Karen at 773-9932 \n
URL:https://993theriver.com/event/ham-potato-scallop-supper-feb-16th/2022-02-12/
CATEGORIES:Community Events
END:VEVENT
END:VCALENDAR