BEGIN:VCALENDAR
VERSION:2.0
PRODID:-//99.3 The River - ECPv4.6.26//NONSGML v1.0//EN
CALSCALE:GREGORIAN
METHOD:PUBLISH
X-WR-CALNAME:99.3 The River
X-ORIGINAL-URL:https://993theriver.com
X-WR-CALDESC:Events for 99.3 The River
BEGIN:VEVENT
DTSTART;TZID=America/Halifax:20191026T140000
DTEND;TZID=America/Halifax:20191026T170000
DTSTAMP:20260421T161148
CREATED:20191021T101331Z
LAST-MODIFIED:20191021T101331Z
UID:9505-1572098400-1572109200@993theriver.com
SUMMARY:Gordon’s Wharf Family Fall Harvest
DESCRIPTION:Saturday October 26\, 2019 \n2pm – 5pm \nGordons Wharf \n11 Gordon Wharf Rd off of Highway 11 in Lower Newcastle \nThe day will be filled with games & trick or treating for kids\, a BBQ & bake sale\, refreshments\, pumpkin activities and live entertainment! \nThere will be prizes to be won for best Halloween costume so bring the spooky out! \nALL ATV’s AND FOUR WHEELERS WELCOME! \nIf inclement weather: Event will be held at Fins & Feathers on Russellville Road \n
URL:https://993theriver.com/event/gordons-wharf-family-fall-harvest/
END:VEVENT
END:VCALENDAR