BEGIN:VCALENDAR
VERSION:2.0
PRODID:-//99.3 The River - ECPv4.6.26//NONSGML v1.0//EN
CALSCALE:GREGORIAN
METHOD:PUBLISH
X-WR-CALNAME:99.3 The River
X-ORIGINAL-URL:https://993theriver.com
X-WR-CALDESC:Events for 99.3 The River
BEGIN:VEVENT
DTSTART;TZID=UTC+1:20171125T190000
DTEND;TZID=UTC+1:20171125T190000
DTSTAMP:20260422T125057
CREATED:20171120T070808Z
LAST-MODIFIED:20171120T070808Z
UID:5255-1511636400-1511636400@993theriver.com
SUMMARY:Gerry Cormier Memorial Christmas Concert
DESCRIPTION: \n
URL:https://993theriver.com/event/gerry-cormier-memorial-christmas-concert/
END:VEVENT
END:VCALENDAR