BEGIN:VCALENDAR
VERSION:2.0
PRODID:-//99.3 The River - ECPv4.6.26//NONSGML v1.0//EN
CALSCALE:GREGORIAN
METHOD:PUBLISH
X-WR-CALNAME:99.3 The River
X-ORIGINAL-URL:https://993theriver.com
X-WR-CALDESC:Events for 99.3 The River
BEGIN:VEVENT
DTSTART;TZID=America/Halifax:20190314T190000
DTEND;TZID=America/Halifax:20190314T190000
DTSTAMP:20260422T134312
CREATED:20190313T170744Z
LAST-MODIFIED:20190313T170744Z
UID:7459-1552590000-1552590000@993theriver.com
SUMMARY:Garden Club Meeting
DESCRIPTION:Miramichi Garden Club meeting on Thursday\, March 14\, 2019 at 7PM – Nordin Rec /  Everyone is welcome as we start a new year. \n
URL:https://993theriver.com/event/garden-club-meeting-2/
END:VEVENT
END:VCALENDAR