BEGIN:VCALENDAR
VERSION:2.0
PRODID:-//99.3 The River - ECPv4.6.26//NONSGML v1.0//EN
CALSCALE:GREGORIAN
METHOD:PUBLISH
X-WR-CALNAME:99.3 The River
X-ORIGINAL-URL:https://993theriver.com
X-WR-CALDESC:Events for 99.3 The River
BEGIN:VEVENT
DTSTART;TZID=America/Halifax:20171209T080000
DTEND;TZID=America/Halifax:20171209T110000
DTSTAMP:20260421T221044
CREATED:20171207T165051Z
LAST-MODIFIED:20171207T165052Z
UID:5349-1512806400-1512817200@993theriver.com
SUMMARY:Fundraising Breakfast
DESCRIPTION:The Miramichi Cross Country Ski Club will kickoff it’s 43rd season with a fundraising breakfast at the Chatham Head Rec Centre on Saturday Dec 9 from 8am until 11 am. \nThis is a big breakfast with eggs\, bacon\, bologna\,beans\, pan fries\, toast and beverages for 8 dollars for adults and 5 dollars for under 8. Take outs available for 50 Cents extra. \n
URL:https://993theriver.com/event/fundraising-breakfast/
END:VEVENT
END:VCALENDAR