BEGIN:VCALENDAR
VERSION:2.0
PRODID:-//99.3 The River - ECPv4.6.26//NONSGML v1.0//EN
CALSCALE:GREGORIAN
METHOD:PUBLISH
X-WR-CALNAME:99.3 The River
X-ORIGINAL-URL:https://993theriver.com
X-WR-CALDESC:Events for 99.3 The River
BEGIN:VEVENT
DTSTART;TZID=America/Halifax:20180602T100000
DTEND;TZID=America/Halifax:20180602T100000
DTSTAMP:20260420T061151
CREATED:20180530T140804Z
LAST-MODIFIED:20180530T140804Z
UID:5616-1527933600-1527933600@993theriver.com
SUMMARY:Fundraiser for Miramichi Suicide Prevention Committee
DESCRIPTION:The Pound is having a FUNDRAISER this SATURDAY JUNE 2nd at 10 AM to help the Miramichi Community Suicide Prevention Committee RAISE MONEY to bring Suicide advocate and motivational speaker Kevin Hines to Miramichi on October 25th. \nThe POUND gym is hosting a fundraiser for the Miramichi Suicide Prevention Committee. We will all do “Murph”\, 1 mile run\, 300 squats\, 200 push ups\, 100 pull ups and 1 mile run…so come on over\, WOD with us\, donate and have some fun! \n  \n
URL:https://993theriver.com/event/fundraiser-for-miramichi-suicide-prevention-committee/
END:VEVENT
END:VCALENDAR