BEGIN:VCALENDAR
VERSION:2.0
PRODID:-//99.3 The River - ECPv4.6.26//NONSGML v1.0//EN
CALSCALE:GREGORIAN
METHOD:PUBLISH
X-WR-CALNAME:99.3 The River
X-ORIGINAL-URL:https://993theriver.com
X-WR-CALDESC:Events for 99.3 The River
BEGIN:VEVENT
DTSTART;TZID=UTC+1:20170323T093000
DTEND;TZID=UTC+1:20170323T143000
DTSTAMP:20260419T131744
CREATED:20170319T050050Z
LAST-MODIFIED:20170319T052050Z
UID:1977-1490261400-1490279400@993theriver.com
SUMMARY:Friends of Seaman’s Hospital – Quilting & Crafts Group
DESCRIPTION:Friends of Seaman’s Hospital – Quilting & Crafts Group\n\nMeets every Wednesday from 9:30 AM to 2:30 PM.\nMembership is not required\, only an interest in various kinds of crafting.\nVisit or join us at Seaman’s Hospital\, 12 Vye Street\, Douglastown (across from St. Samuel’s Church).\n
URL:https://993theriver.com/event/friends-of-seamans-hospital-quilting-crafts-group/2017-03-23/
END:VEVENT
END:VCALENDAR