BEGIN:VCALENDAR
VERSION:2.0
PRODID:-//99.3 The River - ECPv4.6.26//NONSGML v1.0//EN
CALSCALE:GREGORIAN
METHOD:PUBLISH
X-WR-CALNAME:99.3 The River
X-ORIGINAL-URL:https://993theriver.com
X-WR-CALDESC:Events for 99.3 The River
BEGIN:VEVENT
DTSTART;TZID=UTC+1:20171116T190000
DTEND;TZID=UTC+1:20171116T190000
DTSTAMP:20260424T130953
CREATED:20171024T034516Z
LAST-MODIFIED:20171024T034516Z
UID:4617-1510858800-1510858800@993theriver.com
SUMMARY:Friends of Beaubears Island AGM
DESCRIPTION:The Friends of Beaubears Island will host their Annual General Meeting on Thursday\, Nov. 16\, 7:00pm\, at the Nelson Rural School (26 St. Patrick`s Dr.) \nAn abridged financial report will be presented\, as well as a summary of the past summer season\, and upcoming programs in 2018. \nThis is an opportunity for our partners to hear our plans\, meet our Board\, and gain a greater awareness of our activities in the community. \n
URL:https://993theriver.com/event/friends-of-beaubears-island-agm/
END:VEVENT
END:VCALENDAR