BEGIN:VCALENDAR
VERSION:2.0
PRODID:-//99.3 The River - ECPv4.6.26//NONSGML v1.0//EN
CALSCALE:GREGORIAN
METHOD:PUBLISH
X-WR-CALNAME:99.3 The River
X-ORIGINAL-URL:https://993theriver.com
X-WR-CALDESC:Events for 99.3 The River
BEGIN:VEVENT
DTSTART;VALUE=DATE:20170310
DTEND;VALUE=DATE:20170311
DTSTAMP:20260423T124555
CREATED:20170309T224536Z
LAST-MODIFIED:20170309T224536Z
UID:795-1489104000-1489190399@993theriver.com
SUMMARY:Friendly Neighbours Senior Citizens Dance
DESCRIPTION:DANCE\nFriendly Neighbours Senior Citizens\n26 Sutton Road Nelson-Miramichi\nFriday Mar. 10 2017\n8 PM – 11 PM\nAdmission $6.00\nWILD COUNTRY\nLight Lunch Served\nEveryone 50 and Over Welcome \n
URL:https://993theriver.com/event/friendly-neighbours-senior-citizens-dance/
END:VEVENT
END:VCALENDAR