BEGIN:VCALENDAR
VERSION:2.0
PRODID:-//99.3 The River - ECPv4.6.26//NONSGML v1.0//EN
CALSCALE:GREGORIAN
METHOD:PUBLISH
X-WR-CALNAME:99.3 The River
X-ORIGINAL-URL:https://993theriver.com
X-WR-CALDESC:Events for 99.3 The River
BEGIN:VEVENT
DTSTART;TZID=America/Halifax:20230206T180000
DTEND;TZID=America/Halifax:20230206T200000
DTSTAMP:20260420T025518
CREATED:20230128T202842Z
LAST-MODIFIED:20230128T202842Z
UID:18727-1675706400-1675713600@993theriver.com
SUMMARY:Free Community Mental Health Literacy Session ​
DESCRIPTION: \n*Open to Parents\, Students and Concerned Community Members* \nMental Health Literacy is a topic of utmost importance for students\, parents and community members of greater Miramichi. This session is tailored to those who want to increase their knowledge about mental health. At the end of this session\, you will learn key strategies you can employ to obtain and maintain good mental health\, you will develop a deeper understanding of the differences between mental distress\, mental health problems and mental illnesses and you will also learn how to get help if you (or someone you know) are living with a mental health problem or disorder. \n
URL:https://993theriver.com/event/free-community-mental-health-literacy-session/
CATEGORIES:Community
END:VEVENT
END:VCALENDAR