BEGIN:VCALENDAR
VERSION:2.0
PRODID:-//99.3 The River - ECPv4.6.26//NONSGML v1.0//EN
CALSCALE:GREGORIAN
METHOD:PUBLISH
X-WR-CALNAME:99.3 The River
X-ORIGINAL-URL:https://993theriver.com
X-WR-CALDESC:Events for 99.3 The River
BEGIN:VEVENT
DTSTART;TZID=America/Halifax:20191108T190000
DTEND;TZID=America/Halifax:20191108T190000
DTSTAMP:20260420T120620
CREATED:20191027T231625Z
LAST-MODIFIED:20191027T231625Z
UID:9594-1573239600-1573239600@993theriver.com
SUMMARY:Formal Dress Fashion Show and Dress Sale
DESCRIPTION:The Miramichi Trauma Resource Centre – Formal Dress Fashion Show and Dress Sale \nFriday\, November 8th \nJames M Hill theatre \n7 pm. \nAdmission is $5 At the door \nDresses will be sold afterwards for $50 or less to help offset the cost of dresses for students. \nAll funds raised at this event will go back into education for local teens on drug addiction\, dating violence and consent. \n
URL:https://993theriver.com/event/formal-dress-fashion-show-and-dress-sale/
END:VEVENT
END:VCALENDAR