BEGIN:VCALENDAR
VERSION:2.0
PRODID:-//99.3 The River - ECPv4.6.26//NONSGML v1.0//EN
CALSCALE:GREGORIAN
METHOD:PUBLISH
X-WR-CALNAME:99.3 The River
X-ORIGINAL-URL:https://993theriver.com
X-WR-CALDESC:Events for 99.3 The River
BEGIN:VEVENT
DTSTART;VALUE=DATE:20170316
DTEND;VALUE=DATE:20170317
DTSTAMP:20260424T225051
CREATED:20170313T001301Z
LAST-MODIFIED:20170313T001301Z
UID:815-1489622400-1489622400@993theriver.com
SUMMARY:Financial Peace University
DESCRIPTION:Financial Peace University (FPU)\, the 10-week program facilitated by Rev. Colin Holmes\, has helped Miramichiers alter their financial future. This life-changing program teaches families and individuals how to handle their money through common-sense principles and small group accountability. FPU is available for individuals and families. \nThe program is made up of 9 life-changing lessons taught by money management expert Dave Ramsey in a fun and entertaining way. \nTopics covered include: \nLesson 1 – Super Saving Common Sense for Your Dollars and Cents\nLesson 2 – Relating With Money Nerds and Free Spirits Unite!\nLesson 3 – Cash Flow Planning The Nuts and Bolts of Budgeting\nLesson 4 – Dumping Debt Breaking the Chains of Debt\nLesson 5 – Buyer Beware The Power of Marketing on Your Buying Decisions\nLesson 6 – The Role of Insurance Protecting Your Health\, Family and Finances\nLesson 7 – Retirement and College Planning Mastering the Alphabet Soup of Investing\nLesson 8 – Real Estate and Mortgages Keeping Your Dream From Becoming a Nightmare\nLesson 9 – The Great Misunderstanding Unleashing the Power of Generous Giving \nEach class participant needs a kit that retails for $200. Sponsorship rates are routinely available to those in need. Included in the cost of the kit is a lifetime family membership to FPU\, allowing the participant to return to any class at anytime for a refresher course. The kit also includes an FPU workbook\, an FPU envelope system\, 9 CD audio lessons\, budgeting forms\, debit card holders\, and Ramsey’s best-selling book Financial Peace. \nVisit www.newhopemiramichi.ca to register for the next class starting March 16th\, 2017. \n
URL:https://993theriver.com/event/financial-peace-university/
END:VEVENT
END:VCALENDAR