BEGIN:VCALENDAR
VERSION:2.0
PRODID:-//99.3 The River - ECPv4.6.26//NONSGML v1.0//EN
CALSCALE:GREGORIAN
METHOD:PUBLISH
X-WR-CALNAME:99.3 The River
X-ORIGINAL-URL:https://993theriver.com
X-WR-CALDESC:Events for 99.3 The River
BEGIN:VEVENT
DTSTART;VALUE=DATE:20171004
DTEND;VALUE=DATE:20171005
DTSTAMP:20260420T172719
CREATED:20171003T153225Z
LAST-MODIFIED:20171003T153225Z
UID:4387-1507075200-1507161599@993theriver.com
SUMMARY:Family Place Programs
DESCRIPTION:A Family Place programs are starting up again. For all families with children Birth up to 6yrs.\nDrop-In Playgroup on Mondays 12:30-2pm at Gretna Green school\nand Wednesdays 10-12 noon at King Street school\nPlease join our Facebook group “A Family Place Miramichi” for more information. \nAlso: Post Natal group Life with Baby on Wednesdays 12:30- 2pm at King Street school\, for families with babies birth to 12 months old. \nAll programs are Free\, just bring indoor shoes and a little snack.\nCome enjoy time with your little ones\, while socializing with others. \n
URL:https://993theriver.com/event/family-place-programs-2/2017-10-04/
END:VEVENT
END:VCALENDAR