BEGIN:VCALENDAR
VERSION:2.0
PRODID:-//99.3 The River - ECPv4.6.26//NONSGML v1.0//EN
CALSCALE:GREGORIAN
METHOD:PUBLISH
X-WR-CALNAME:99.3 The River
X-ORIGINAL-URL:https://993theriver.com
X-WR-CALDESC:Events for 99.3 The River
BEGIN:VEVENT
DTSTART;TZID=America/Halifax:20221015T153000
DTEND;TZID=America/Halifax:20221015T170000
DTSTAMP:20260422T111904
CREATED:20221015T125351Z
LAST-MODIFIED:20221015T125351Z
UID:17980-1665847800-1665853200@993theriver.com
SUMMARY:Fall Take-Out Supper
DESCRIPTION:St. James & St. John United Church Roast Beef Fall Supper \nSaturday\, October 22nd\, \n3:30 – 5:00 PM. \nThe menu is roast beef\, potatoes\, gravy\, vegetables\, roll and dessert. \nTickets are $15 for adult and $7 children 11 & under. \nPre-sold tickets available at the Church Centre\, Dickison’s Pharmasave and Brookdale Flower Shop. \nTake-out only\, with pick up at the front doors\, 556 King George Hwy. \n
URL:https://993theriver.com/event/fall-take-out-supper/2022-10-15/
CATEGORIES:Community Events
END:VEVENT
END:VCALENDAR