BEGIN:VCALENDAR
VERSION:2.0
PRODID:-//99.3 The River - ECPv4.6.26//NONSGML v1.0//EN
CALSCALE:GREGORIAN
METHOD:PUBLISH
X-WR-CALNAME:99.3 The River
X-ORIGINAL-URL:https://993theriver.com
X-WR-CALDESC:Events for 99.3 The River
BEGIN:VEVENT
DTSTART;TZID=UTC+0:20171028T153000
DTEND;TZID=UTC+0:20171028T180000
DTSTAMP:20260425T120316
CREATED:20171027T153702Z
LAST-MODIFIED:20171027T154014Z
UID:4632-1509204600-1509213600@993theriver.com
SUMMARY:FALL SUPPER
DESCRIPTION:ANNUAL ROAST BEEF SUPPER AT ST JAMES AND ST JOHN UNITED\, 556 KING GEORGE HIGHWAY FROM 3:30-6 SATURDAY OCT 28.  ROAST BEEF SUPPER \n
URL:https://993theriver.com/event/fall-supper-3/
END:VEVENT
END:VCALENDAR