BEGIN:VCALENDAR
VERSION:2.0
PRODID:-//99.3 The River - ECPv4.6.26//NONSGML v1.0//EN
CALSCALE:GREGORIAN
METHOD:PUBLISH
X-WR-CALNAME:99.3 The River
X-ORIGINAL-URL:https://993theriver.com
X-WR-CALDESC:Events for 99.3 The River
BEGIN:VEVENT
DTSTART;TZID=America/Halifax:20231014T153000
DTEND;TZID=America/Halifax:20231014T180000
DTSTAMP:20260425T113058
CREATED:20231013T122807Z
LAST-MODIFIED:20231015T131819Z
UID:20005-1697297400-1697306400@993theriver.com
SUMMARY:Fall Supper
DESCRIPTION:Fall supper at St. Paul’s Anglican Church.  Roast Beef with all the trimmings.  Saturday Oct 14th from 3:30-6.  Take outs available \n
URL:https://993theriver.com/event/fall-supper-14/
CATEGORIES:Community Events
END:VEVENT
END:VCALENDAR