BEGIN:VCALENDAR
VERSION:2.0
PRODID:-//99.3 The River - ECPv4.6.26//NONSGML v1.0//EN
CALSCALE:GREGORIAN
METHOD:PUBLISH
X-WR-CALNAME:99.3 The River
X-ORIGINAL-URL:https://993theriver.com
X-WR-CALDESC:Events for 99.3 The River
BEGIN:VEVENT
DTSTART;TZID=UTC+1:20170930T110000
DTEND;TZID=UTC+1:20170930T150000
DTSTAMP:20260425T185623
CREATED:20170919T034334Z
LAST-MODIFIED:20170919T034334Z
UID:4228-1506769200-1506783600@993theriver.com
SUMMARY:Fall Market
DESCRIPTION:Saturday\, September 30 \n11 am to 3 pm \nSeniors Hall \n419 Burnt Church Rd\, Burnt Church\, \nsponsored by Church River Historical Society \n3 pm Pumpkin weigh off and prize awards for the community pumpkin growing contest \nLunch Menu\nDonairs\, Chili dogs\, Pulled pork sandwiches and dessert\nSale items:\nFall decorating pumpkins and gourds\nSquash and pie pumpkins\nHand crafted jewelry\,crocheted hats\nBaked goods\, fudge\, preserves \, gluten free sweets\, bunnies\, free kittens\, books by local authors\, art\, wood crafts and more \n
URL:https://993theriver.com/event/fall-market/
END:VEVENT
END:VCALENDAR