BEGIN:VCALENDAR
VERSION:2.0
PRODID:-//99.3 The River - ECPv4.6.26//NONSGML v1.0//EN
CALSCALE:GREGORIAN
METHOD:PUBLISH
X-WR-CALNAME:99.3 The River
X-ORIGINAL-URL:https://993theriver.com
X-WR-CALDESC:Events for 99.3 The River
BEGIN:VEVENT
DTSTART;TZID=America/Halifax:20231021T100000
DTEND;TZID=America/Halifax:20231021T130000
DTSTAMP:20260423T125306
CREATED:20231015T132255Z
LAST-MODIFIED:20231015T132255Z
UID:20013-1697882400-1697893200@993theriver.com
SUMMARY:Fall Market - Blackville
DESCRIPTION:United Church Hall in Blackville \nOctober 21\, 2023 \n10 AM – 1 PM. \nGreat assortment of vendors with lots of great products! \n
URL:https://993theriver.com/event/fall-market-blackville/
CATEGORIES:Community Events
END:VEVENT
END:VCALENDAR