BEGIN:VCALENDAR
VERSION:2.0
PRODID:-//99.3 The River - ECPv4.6.26//NONSGML v1.0//EN
CALSCALE:GREGORIAN
METHOD:PUBLISH
X-WR-CALNAME:99.3 The River
X-ORIGINAL-URL:https://993theriver.com
X-WR-CALDESC:Events for 99.3 The River
BEGIN:VEVENT
DTSTART;TZID=America/Halifax:20190202T190000
DTEND;TZID=America/Halifax:20190202T190000
DTSTAMP:20260425T103835
CREATED:20190116T010049Z
LAST-MODIFIED:20190116T010141Z
UID:7192-1549134000-1549134000@993theriver.com
SUMMARY:Evening of Music for Hospice Miramichi
DESCRIPTION:Tickets are $15 each\, and are available in Chatham at Hospice Miramichi\, 14 Howard Street\, The Hospice Shoppe\, 1737 Water Street\, Country Floral\, 1757 Water Street\, and in Newcastle at Mill Cove Coffee\, 144 Newcastle Blvd – also available at the door. Cash Bar\, 50/50 Draw\, and Arms-Length Auction. \n \n
URL:https://993theriver.com/event/evening-of-music-for-hospice/
END:VEVENT
END:VCALENDAR