BEGIN:VCALENDAR
VERSION:2.0
PRODID:-//99.3 The River - ECPv4.6.26//NONSGML v1.0//EN
CALSCALE:GREGORIAN
METHOD:PUBLISH
X-WR-CALNAME:99.3 The River
X-ORIGINAL-URL:https://993theriver.com
X-WR-CALDESC:Events for 99.3 The River
BEGIN:VEVENT
DTSTART;TZID=America/Halifax:20181013T190000
DTEND;TZID=America/Halifax:20181013T190000
DTSTAMP:20260422T171948
CREATED:20181001T185604Z
LAST-MODIFIED:20181001T185604Z
UID:6540-1539457200-1539457200@993theriver.com
SUMMARY:Evening of Music (Blackville)
DESCRIPTION:The Whooper Spring Players of Blackville are hosting a musical evening at the United Church Center\, 143 Main Street\, Blackville on Saturday\, October 13\, 2018. \nPerry Batten\, Kevin Kelly and special guest\, Cathy Jackman\, all from PEI\, will be performing lively music from Newfoundland\, the Maritimes and also Classic Country. \nThe evening begins at 7 pm\, doors open at 6 pm. Admission is $10 at the door. A light lunch will be available. \nFor more information\, call 843-6139. \n
URL:https://993theriver.com/event/evening-of-music-blackville/
END:VEVENT
END:VCALENDAR