BEGIN:VCALENDAR
VERSION:2.0
PRODID:-//99.3 The River - ECPv4.6.26//NONSGML v1.0//EN
CALSCALE:GREGORIAN
METHOD:PUBLISH
X-WR-CALNAME:99.3 The River
X-ORIGINAL-URL:https://993theriver.com
X-WR-CALDESC:Events for 99.3 The River
BEGIN:VEVENT
DTSTART;TZID=America/Halifax:20230520T190000
DTEND;TZID=America/Halifax:20230520T190000
DTSTAMP:20260419T195941
CREATED:20230311T135839Z
LAST-MODIFIED:20230421T234401Z
UID:18915-1684609200-1684609200@993theriver.com
SUMMARY:Elvis Tribute
DESCRIPTION:Royal Canadian Legion Branch # 3 New Building Fundraising Event featuring Elvis Presley Tribute Artist Alan Smith and special guest Trina Berton.\nLoggieville Community Centre\nSaturday May 20th\nDoors open at 6 pm with showtime 7 pm.\nTickets are $25 each.\nContact 506-625-9931 or 506-773-7433 to purchase tickets.\nThere will be 50/50 draws and two door prizes of $250 each. \n
URL:https://993theriver.com/event/elvis-tribute/
CATEGORIES:Entertainment
END:VEVENT
END:VCALENDAR