BEGIN:VCALENDAR
VERSION:2.0
PRODID:-//99.3 The River - ECPv4.6.26//NONSGML v1.0//EN
CALSCALE:GREGORIAN
METHOD:PUBLISH
X-WR-CALNAME:99.3 The River
X-ORIGINAL-URL:https://993theriver.com
X-WR-CALDESC:Events for 99.3 The River
BEGIN:VEVENT
DTSTART;VALUE=DATE:20170815
DTEND;VALUE=DATE:20170816
DTSTAMP:20260421T190408
CREATED:20170814T173335Z
LAST-MODIFIED:20170814T173335Z
UID:3759-1502755200-1502841599@993theriver.com
SUMMARY:Elf Program Info Sessions
DESCRIPTION:The Elf Program is a volunteer-based reading program offered for free to grade 2 children across New Brunswick. We need volunteers in Miramichi elementary schools this fall! Would you like to learn more about the Elf program and how you can help a young reader in your community? \nWe will be at the Newcastle Public Library from 1 to 4 pm on Tuesday\, August 15 and the Chatham Public Library from 11-1pm on Wednesday\, August 16 and we would love to see you and to answer your questions! Come and meet us! \n
URL:https://993theriver.com/event/elf-program-info-sessions/2017-08-15/
END:VEVENT
END:VCALENDAR