BEGIN:VCALENDAR
VERSION:2.0
PRODID:-//99.3 The River - ECPv4.6.26//NONSGML v1.0//EN
CALSCALE:GREGORIAN
METHOD:PUBLISH
X-WR-CALNAME:99.3 The River
X-ORIGINAL-URL:https://993theriver.com
X-WR-CALDESC:Events for 99.3 The River
BEGIN:VEVENT
DTSTART;TZID=America/Halifax:20220722T190000
DTEND;TZID=America/Halifax:20220722T190000
DTSTAMP:20260424T124648
CREATED:20220720T155902Z
LAST-MODIFIED:20220720T155902Z
UID:17520-1658516400-1658516400@993theriver.com
SUMMARY:Drama Event "THE DOWNS"
DESCRIPTION:July 22nd and 23rd \nCarrefour Beausoleil Theathre \, 300 Beaverbrook Rd. \nTickets are available at Creative Grounds Cafe in Chatham\, or online at Eventbrite.ca. cost is $25. \n“THE DOWNS” written and presented by Sheryl Scott (former Miramichier) has received Peoples Choice and Best drama awards in London\, Ontario. \nA story of a farmer’s wife and the struggles of raising a family in the 1900’s. Millie Johnston will have you laughing one minute and crying the next. You don’t want to miss this comedy event. \n
URL:https://993theriver.com/event/drama-event-the-downs/2022-07-22/
CATEGORIES:Entertainment
END:VEVENT
END:VCALENDAR