BEGIN:VCALENDAR
VERSION:2.0
PRODID:-//99.3 The River - ECPv4.6.26//NONSGML v1.0//EN
CALSCALE:GREGORIAN
METHOD:PUBLISH
X-WR-CALNAME:99.3 The River
X-ORIGINAL-URL:https://993theriver.com
X-WR-CALDESC:Events for 99.3 The River
BEGIN:VEVENT
DTSTART;VALUE=DATE:20180727
DTEND;VALUE=DATE:20180728
DTSTAMP:20260422T125548
CREATED:20180723T173715Z
LAST-MODIFIED:20180723T173715Z
UID:5910-1532649600-1532735999@993theriver.com
SUMMARY:Down River Music Festival
DESCRIPTION: \n
URL:https://993theriver.com/event/down-river-music-festival/2018-07-27/
END:VEVENT
END:VCALENDAR