BEGIN:VCALENDAR
VERSION:2.0
PRODID:-//99.3 The River - ECPv4.6.26//NONSGML v1.0//EN
CALSCALE:GREGORIAN
METHOD:PUBLISH
X-WR-CALNAME:99.3 The River
X-ORIGINAL-URL:https://993theriver.com
X-WR-CALDESC:Events for 99.3 The River
BEGIN:VEVENT
DTSTART;TZID=America/Halifax:20210711T120000
DTEND;TZID=America/Halifax:20210711T120000
DTSTAMP:20260419T183803
CREATED:20210710T121835Z
LAST-MODIFIED:20210710T121835Z
UID:14828-1626004800-1626004800@993theriver.com
SUMMARY:Douglastown Lions Club Fundraiser
DESCRIPTION:Sunday\, July 11th \nStarting at 12:00 \nMauries Mini-Putt and Ice Cream \nThe fundraiser is to help build a new Ronald McDonald house in Halifax.  The Sausage Man food truck will be on site. \nAll profit from the mini-putt and the food truck will be donated\, as well as a donation from the ice-cream sold. \n
URL:https://993theriver.com/event/douglastown-lions-club-fundraiser/
END:VEVENT
END:VCALENDAR