BEGIN:VCALENDAR
VERSION:2.0
PRODID:-//99.3 The River - ECPv4.6.26//NONSGML v1.0//EN
CALSCALE:GREGORIAN
METHOD:PUBLISH
X-WR-CALNAME:99.3 The River
X-ORIGINAL-URL:https://993theriver.com
X-WR-CALDESC:Events for 99.3 The River
BEGIN:VEVENT
DTSTART;TZID=America/Halifax:20250405T190000
DTEND;TZID=America/Halifax:20250405T190000
DTSTAMP:20260422T185112
CREATED:20250324T214954Z
LAST-MODIFIED:20250324T214954Z
UID:24008-1743879600-1743879600@993theriver.com
SUMMARY:Dessert Theatre
DESCRIPTION:The St. J & J Drama Troupe of St. James & St. John United Church\, is presenting a dessert theatre\, “The Mapleton Die-Nasty” \nApril 4\, 5 & 6th. \nTickets are $20 each\, available at the United Church office and Dickison’s Pharmasave. \nThe show starts at 7:00 PM; doors open at 6:30 PM. \n
URL:https://993theriver.com/event/dessert-theatre-4/2025-04-05/
CATEGORIES:Entertainment
END:VEVENT
END:VCALENDAR