BEGIN:VCALENDAR
VERSION:2.0
PRODID:-//99.3 The River - ECPv4.6.26//NONSGML v1.0//EN
CALSCALE:GREGORIAN
METHOD:PUBLISH
X-WR-CALNAME:99.3 The River
X-ORIGINAL-URL:https://993theriver.com
X-WR-CALDESC:Events for 99.3 The River
BEGIN:VEVENT
DTSTART;TZID=America/Halifax:20241130T190000
DTEND;TZID=America/Halifax:20241130T190000
DTSTAMP:20260423T115728
CREATED:20241123T182829Z
LAST-MODIFIED:20241123T182829Z
UID:23491-1732993200-1732993200@993theriver.com
SUMMARY:Dessert Theatre
DESCRIPTION:The St. J & J Drama Troupe is proud to present “Christmas at the Miramichi Valley Nursing Home”\, a dessert theater\, November 29\, 30 and December 1\, at 7:00 PM (doors open at 6:30 PM) at the United Church Center\, 556 King George Hwy. A touching and humorous play about the dreams\, loneliness and uplifting faith of a group of elderly people gathered in the common room of a nursing home on Christmas Eve – a production you won’t want to miss! Tickets are $20 and available at the United Church Centre and Dickison’s Pharmasave. \n
URL:https://993theriver.com/event/dessert-theatre-3/2024-11-30/
CATEGORIES:Entertainment
END:VEVENT
END:VCALENDAR