BEGIN:VCALENDAR
VERSION:2.0
PRODID:-//99.3 The River - ECPv4.6.26//NONSGML v1.0//EN
CALSCALE:GREGORIAN
METHOD:PUBLISH
X-WR-CALNAME:99.3 The River
X-ORIGINAL-URL:https://993theriver.com
X-WR-CALDESC:Events for 99.3 The River
BEGIN:VEVENT
DTSTART;TZID=America/Halifax:20230726T190000
DTEND;TZID=America/Halifax:20230726T190000
DTSTAMP:20260419T184115
CREATED:20230723T123530Z
LAST-MODIFIED:20230723T123530Z
UID:19559-1690398000-1690398000@993theriver.com
SUMMARY:Derby Senior Citizens Card Party and Monthly Meeting
DESCRIPTION:Millerton School \nWednesday evening at 7:00 \nMonthly meeting – first Wednesday of each month at 1:00\, also at Millerton School. \nNew card players and member are welcome! \n
URL:https://993theriver.com/event/derby-senior-citizens-card-party-and-monthly-meeting/2023-07-26/
CATEGORIES:Community Events
END:VEVENT
END:VCALENDAR