BEGIN:VCALENDAR
VERSION:2.0
PRODID:-//99.3 The River - ECPv4.6.26//NONSGML v1.0//EN
CALSCALE:GREGORIAN
METHOD:PUBLISH
X-WR-CALNAME:99.3 The River
X-ORIGINAL-URL:https://993theriver.com
X-WR-CALDESC:Events for 99.3 The River
BEGIN:VEVENT
DTSTART;TZID=America/Halifax:20190921T200000
DTEND;TZID=America/Halifax:20190921T200000
DTSTAMP:20260424T133119
CREATED:20190911T172121Z
LAST-MODIFIED:20190911T172121Z
UID:9112-1569096000-1569096000@993theriver.com
SUMMARY:Dance - Nordin Rec Centre
DESCRIPTION:Saturday\, September 21st \n8 PM – Midnight \nWith Tammy Adams \nCost:  $10 per person \n
URL:https://993theriver.com/event/dance-nordin-rec-centre/
END:VEVENT
END:VCALENDAR