BEGIN:VCALENDAR
VERSION:2.0
PRODID:-//99.3 The River - ECPv4.6.26//NONSGML v1.0//EN
CALSCALE:GREGORIAN
METHOD:PUBLISH
X-WR-CALNAME:99.3 The River
X-ORIGINAL-URL:https://993theriver.com
X-WR-CALDESC:Events for 99.3 The River
BEGIN:VEVENT
DTSTART;TZID=UTC+0:20170210T200000
DTEND;TZID=UTC+0:20170210T230000
DTSTAMP:20260420T134318
CREATED:20170210T211126Z
LAST-MODIFIED:20170210T211126Z
UID:639-1486756800-1486767600@993theriver.com
SUMMARY:Dance - Friendly Neighbours Senior Citizens
DESCRIPTION:The Friendly Neighbours Senior Citizens Dance \n\n26 Sutton Rd. Nelson\nFriday\, Feb. 10th\n8 PM – 11 PM\nMusic by Country Tornadoes\nCost is $6.00\nLight lunch will be served\n
URL:https://993theriver.com/event/dance-friendly-neighbours-senior-citizens/
END:VEVENT
END:VCALENDAR