BEGIN:VCALENDAR
VERSION:2.0
PRODID:-//99.3 The River - ECPv4.6.26//NONSGML v1.0//EN
CALSCALE:GREGORIAN
METHOD:PUBLISH
X-WR-CALNAME:99.3 The River
X-ORIGINAL-URL:https://993theriver.com
X-WR-CALDESC:Events for 99.3 The River
BEGIN:VEVENT
DTSTART;TZID=America/Halifax:20230729T080000
DTEND;TZID=America/Halifax:20230729T170000
DTSTAMP:20260425T113925
CREATED:20230626T114542Z
LAST-MODIFIED:20230708T124228Z
UID:19414-1690617600-1690650000@993theriver.com
SUMMARY:Dance at the Lions Club in Sunny Corner
DESCRIPTION:Dance at the Lions Club in Sunny Corner \non July 29 \, 2023 \nMusic by Family Sounds \ntime 8 to 11 PM \ncost $7.00 per person \nlight lunch to follow \n
URL:https://993theriver.com/event/dance-at-the-lions-club-in-sunny-corner/
CATEGORIES:Entertainment
END:VEVENT
END:VCALENDAR